BEGIN:VCALENDAR
VERSION:2.0
PRODID:-//Ichthus Kerk Lemele - ECPv5.0.3.1//NONSGML v1.0//EN
CALSCALE:GREGORIAN
METHOD:PUBLISH
X-WR-CALNAME:Ichthus Kerk Lemele
X-ORIGINAL-URL:http://www.ichthuskerk-lemele.nl
X-WR-CALDESC:Evenementen voor Ichthus Kerk Lemele
BEGIN:VTIMEZONE
TZID:Europe/Paris
BEGIN:DAYLIGHT
TZOFFSETFROM:+0100
TZOFFSETTO:+0200
TZNAME:CEST
DTSTART:20230326T010000
END:DAYLIGHT
BEGIN:STANDARD
TZOFFSETFROM:+0200
TZOFFSETTO:+0100
TZNAME:CET
DTSTART:20231029T010000
END:STANDARD
END:VTIMEZONE
BEGIN:VEVENT
DTSTART;TZID=Europe/Paris:20231231T190000
DTEND;TZID=Europe/Paris:20231231T200000
DTSTAMP:20260421T194530
CREATED:20231101T173936Z
LAST-MODIFIED:20231226T131715Z
UID:5303-1704049200-1704052800@www.ichthuskerk-lemele.nl
SUMMARY:Oudejaarsdienst in de Brugkerk Lemelerveld
DESCRIPTION:
URL:http://www.ichthuskerk-lemele.nl/agenda/oudejaarsdienst-in-de-lichtbron-in-lemelerveld/
END:VEVENT
END:VCALENDAR